BEGIN:VCALENDAR
VERSION:2.0
PRODID:-//Executives&#039; Association of Savannah - ECPv5.13.0//NONSGML v1.0//EN
CALSCALE:GREGORIAN
METHOD:PUBLISH
X-WR-CALNAME:Executives&#039; Association of Savannah
X-ORIGINAL-URL:https://www.savannahexecutives.com
X-WR-CALDESC:Events for Executives&#039; Association of Savannah
REFRESH-INTERVAL;VALUE=DURATION:PT1H
X-Robots-Tag:noindex
X-PUBLISHED-TTL:PT1H
BEGIN:VTIMEZONE
TZID:America/New_York
BEGIN:DAYLIGHT
TZOFFSETFROM:-0500
TZOFFSETTO:-0400
TZNAME:EDT
DTSTART:20260308T070000
END:DAYLIGHT
BEGIN:STANDARD
TZOFFSETFROM:-0400
TZOFFSETTO:-0500
TZNAME:EST
DTSTART:20261101T060000
END:STANDARD
END:VTIMEZONE
BEGIN:VEVENT
DTSTART;TZID=America/New_York:20260407T074500
DTEND;TZID=America/New_York:20260407T074500
DTSTAMP:20260419T223758
CREATED:20251103T150703Z
LAST-MODIFIED:20251103T150703Z
UID:5287-1775547900-1775547900@www.savannahexecutives.com
SUMMARY:EAS Breakfast Meeting
DESCRIPTION:
URL:https://www.savannahexecutives.com/event/eas-breakfast-meeting-4/
CATEGORIES:Breakfast Meetings
END:VEVENT
BEGIN:VEVENT
DTSTART;TZID=America/New_York:20260414T074500
DTEND;TZID=America/New_York:20260414T074500
DTSTAMP:20260419T223758
CREATED:20251103T150703Z
LAST-MODIFIED:20251103T150703Z
UID:5288-1776152700-1776152700@www.savannahexecutives.com
SUMMARY:EAS Breakfast Meeting
DESCRIPTION:
URL:https://www.savannahexecutives.com/event/eas-breakfast-meeting-4/2026-04-14/
CATEGORIES:Breakfast Meetings
END:VEVENT
BEGIN:VEVENT
DTSTART;TZID=America/New_York:20260421T074500
DTEND;TZID=America/New_York:20260421T074500
DTSTAMP:20260419T223758
CREATED:20251103T150703Z
LAST-MODIFIED:20251103T150703Z
UID:5289-1776757500-1776757500@www.savannahexecutives.com
SUMMARY:EAS Breakfast Meeting
DESCRIPTION:
URL:https://www.savannahexecutives.com/event/eas-breakfast-meeting-4/2026-04-21/
CATEGORIES:Breakfast Meetings
END:VEVENT
BEGIN:VEVENT
DTSTART;VALUE=DATE:20260423
DTEND;VALUE=DATE:20260424
DTSTAMP:20260419T223758
CREATED:20251103T144517Z
LAST-MODIFIED:20251103T144517Z
UID:5262-1776902400-1776988799@www.savannahexecutives.com
SUMMARY:April 2026 Board Meeting
DESCRIPTION:
URL:https://www.savannahexecutives.com/event/april-2026-board-meeting/
CATEGORIES:Board Meeting
END:VEVENT
BEGIN:VEVENT
DTSTART;VALUE=DATE:20260428
DTEND;VALUE=DATE:20260429
DTSTAMP:20260419T223758
CREATED:20251103T150732Z
LAST-MODIFIED:20251103T150732Z
UID:5291-1777334400-1777420799@www.savannahexecutives.com
SUMMARY:No Meeting
DESCRIPTION:
URL:https://www.savannahexecutives.com/event/no-meeting-11/
CATEGORIES:Breakfast Meetings
END:VEVENT
BEGIN:VEVENT
DTSTART;VALUE=DATE:20260430
DTEND;VALUE=DATE:20260501
DTSTAMP:20260419T223758
CREATED:20251103T144730Z
LAST-MODIFIED:20251103T144730Z
UID:5265-1777507200-1777593599@www.savannahexecutives.com
SUMMARY:Annual Meeting
DESCRIPTION:
URL:https://www.savannahexecutives.com/event/annual-meeting-4/
CATEGORIES:Special Events
END:VEVENT
END:VCALENDAR